Package: GSEABase Version: 1.68.0 Command: chmod a+r GSEABase -R && F:\biocbuild\bbs-3.20-bioc\R\bin\R.exe CMD build --keep-empty-dirs --no-resave-data GSEABase StartedAt: 2025-02-03 19:37:11 -0500 (Mon, 03 Feb 2025) EndedAt: 2025-02-03 19:39:00 -0500 (Mon, 03 Feb 2025) EllapsedTime: 109.3 seconds RetCode: 0 Status: OK PackageFile: GSEABase_1.68.0.tar.gz PackageFileSize: 292.8 KiB