Package: GSEABenchmarkeR Version: 1.26.0 Command: /Library/Frameworks/R.framework/Resources/bin/R CMD check --install=check:GSEABenchmarkeR.install-out.txt --library=/Library/Frameworks/R.framework/Resources/library --no-vignettes --timings GSEABenchmarkeR_1.26.0.tar.gz StartedAt: 2025-01-31 04:51:11 -0500 (Fri, 31 Jan 2025) EndedAt: 2025-01-31 05:00:26 -0500 (Fri, 31 Jan 2025) EllapsedTime: 554.9 seconds RetCode: 0 Status: OK CheckDir: GSEABenchmarkeR.Rcheck Warnings: 0