Package: GSEABenchmarkeR Version: 1.26.0 Command: /Library/Frameworks/R.framework/Resources/bin/R CMD INSTALL GSEABenchmarkeR StartedAt: 2025-01-30 15:39:14 -0500 (Thu, 30 Jan 2025) EndedAt: 2025-01-30 15:40:00 -0500 (Thu, 30 Jan 2025) EllapsedTime: 46.0 seconds RetCode: 0 Status: OK