Package: GSEABenchmarkeR Version: 1.26.0 Command: /home/biocbuild/R/R/bin/R CMD check --install=check:GSEABenchmarkeR.install-out.txt --library=/home/biocbuild/R/R/site-library --no-vignettes --timings GSEABenchmarkeR_1.26.0.tar.gz StartedAt: 2025-01-31 06:57:57 -0000 (Fri, 31 Jan 2025) EndedAt: 2025-01-31 07:37:58 -0000 (Fri, 31 Jan 2025) EllapsedTime: 2400.7 seconds RetCode: None Status: TIMEOUT CheckDir: GSEABenchmarkeR.Rcheck Warnings: NA