Package: GSEAmining Version: 1.16.0 Command: /Library/Frameworks/R.framework/Resources/bin/R CMD build --keep-empty-dirs --no-resave-data GSEAmining StartedAt: 2025-02-04 01:04:52 -0500 (Tue, 04 Feb 2025) EndedAt: 2025-02-04 01:05:35 -0500 (Tue, 04 Feb 2025) EllapsedTime: 43.8 seconds RetCode: 0 Status: OK PackageFile: GSEAmining_1.16.0.tar.gz PackageFileSize: 2.84 MiB