Package: GSEAmining Version: 1.16.0 Command: /Library/Frameworks/R.framework/Resources/bin/R CMD check --install=check:GSEAmining.install-out.txt --library=/Library/Frameworks/R.framework/Resources/library --no-vignettes --timings GSEAmining_1.16.0.tar.gz StartedAt: 2025-02-04 22:00:37 -0500 (Tue, 04 Feb 2025) EndedAt: 2025-02-04 22:02:05 -0500 (Tue, 04 Feb 2025) EllapsedTime: 87.7 seconds RetCode: 0 Status: OK CheckDir: GSEAmining.Rcheck Warnings: 0