Package: GSEAmining Version: 1.16.0 Command: /Library/Frameworks/R.framework/Resources/bin/R CMD INSTALL GSEAmining StartedAt: 2025-02-03 15:37:29 -0500 (Mon, 03 Feb 2025) EndedAt: 2025-02-03 15:37:33 -0500 (Mon, 03 Feb 2025) EllapsedTime: 4.3 seconds RetCode: 0 Status: OK