Package: GSEAmining Version: 1.16.0 Command: /Library/Frameworks/R.framework/Resources/bin/R CMD check --install=check:GSEAmining.install-out.txt --library=/Library/Frameworks/R.framework/Resources/library --no-vignettes --timings GSEAmining_1.16.0.tar.gz StartedAt: 2025-02-11 04:27:23 -0500 (Tue, 11 Feb 2025) EndedAt: 2025-02-11 04:30:36 -0500 (Tue, 11 Feb 2025) EllapsedTime: 192.4 seconds RetCode: 0 Status: OK CheckDir: GSEAmining.Rcheck Warnings: 0