Package: GSEAmining Version: 1.16.0 Command: rm -rf GSEAmining.buildbin-libdir && mkdir GSEAmining.buildbin-libdir && F:\biocbuild\bbs-3.20-bioc\R\bin\R.exe CMD INSTALL --build --library=GSEAmining.buildbin-libdir GSEAmining_1.16.0.tar.gz StartedAt: 2025-02-04 08:39:55 -0500 (Tue, 04 Feb 2025) EndedAt: 2025-02-04 08:40:20 -0500 (Tue, 04 Feb 2025) EllapsedTime: 24.7 seconds RetCode: 0 Status: OK PackageFile: GSEAmining_1.16.0.zip PackageFileSize: 665.1 KiB