Package: GSEAmining Version: 1.16.0 Command: chmod a+r GSEAmining -R && F:\biocbuild\bbs-3.20-bioc\R\bin\R.exe CMD build --keep-empty-dirs --no-resave-data GSEAmining StartedAt: 2025-02-03 19:37:24 -0500 (Mon, 03 Feb 2025) EndedAt: 2025-02-03 19:39:19 -0500 (Mon, 03 Feb 2025) EllapsedTime: 114.4 seconds RetCode: 0 Status: OK PackageFile: GSEAmining_1.16.0.tar.gz PackageFileSize: 1.981 MiB