Package: GSEAmining Version: 1.16.0 Command: /home/biocbuild/R/R/bin/R CMD build --keep-empty-dirs --no-resave-data GSEAmining StartedAt: 2025-02-04 00:09:35 -0000 (Tue, 04 Feb 2025) EndedAt: 2025-02-04 00:10:37 -0000 (Tue, 04 Feb 2025) EllapsedTime: 62.1 seconds RetCode: 0 Status: OK PackageFile: GSEAmining_1.16.0.tar.gz PackageFileSize: 2.032 MiB