Package: GSEAmining Version: 1.16.0 Command: /home/biocbuild/R/R/bin/R CMD check --install=check:GSEAmining.install-out.txt --library=/home/biocbuild/R/R/site-library --no-vignettes --timings GSEAmining_1.16.0.tar.gz StartedAt: 2025-02-04 07:40:31 -0000 (Tue, 04 Feb 2025) EndedAt: 2025-02-04 07:42:02 -0000 (Tue, 04 Feb 2025) EllapsedTime: 90.1 seconds RetCode: 0 Status: OK CheckDir: GSEAmining.Rcheck Warnings: 0