Package: GSRI Version: 2.54.0 Command: rm -rf GSRI.buildbin-libdir && mkdir GSRI.buildbin-libdir && /Users/biocbuild/BBS/utils/build-universal.sh GSRI_2.54.0.tar.gz /Library/Frameworks/R.framework/Resources/bin/R GSRI.buildbin-libdir StartedAt: 2025-02-05 16:09:09 -0500 (Wed, 05 Feb 2025) EndedAt: 2025-02-05 16:09:35 -0500 (Wed, 05 Feb 2025) EllapsedTime: 26.1 seconds RetCode: 0 Status: OK PackageFile: GSRI_2.54.0.tgz PackageFileSize: 663.6 KiB