Package: GSRI Version: 2.54.0 Command: /Library/Frameworks/R.framework/Resources/bin/R CMD check --install=check:GSRI.install-out.txt --library=/Library/Frameworks/R.framework/Resources/library --no-vignettes --timings GSRI_2.54.0.tar.gz StartedAt: 2025-02-04 22:01:38 -0500 (Tue, 04 Feb 2025) EndedAt: 2025-02-04 22:04:07 -0500 (Tue, 04 Feb 2025) EllapsedTime: 148.6 seconds RetCode: 0 Status: OK CheckDir: GSRI.Rcheck Warnings: 0