Package: GSRI Version: 2.54.0 Command: /Library/Frameworks/R.framework/Resources/bin/R CMD INSTALL GSRI StartedAt: 2025-02-03 17:07:31 -0500 (Mon, 03 Feb 2025) EndedAt: 2025-02-03 17:07:55 -0500 (Mon, 03 Feb 2025) EllapsedTime: 23.4 seconds RetCode: 0 Status: OK