Package: GSRI Version: 2.54.0 Command: /Library/Frameworks/R.framework/Resources/bin/R CMD build --keep-empty-dirs --no-resave-data GSRI StartedAt: 2025-02-03 19:28:00 -0500 (Mon, 03 Feb 2025) EndedAt: 2025-02-03 19:29:36 -0500 (Mon, 03 Feb 2025) EllapsedTime: 96.4 seconds RetCode: 0 Status: OK PackageFile: GSRI_2.54.0.tar.gz PackageFileSize: 339.3 KiB