Package: GSRI Version: 2.54.0 Command: /home/biocbuild/bbs-3.20-bioc/R/bin/R CMD INSTALL GSRI StartedAt: 2025-02-03 15:50:18 -0500 (Mon, 03 Feb 2025) EndedAt: 2025-02-03 15:50:39 -0500 (Mon, 03 Feb 2025) EllapsedTime: 21.4 seconds RetCode: 0 Status: OK