Package: GSRI Version: 2.54.0 Command: /home/biocbuild/R/R/bin/R CMD INSTALL GSRI StartedAt: 2025-02-03 21:04:46 -0000 (Mon, 03 Feb 2025) EndedAt: 2025-02-03 21:05:11 -0000 (Mon, 03 Feb 2025) EllapsedTime: 25.2 seconds RetCode: 0 Status: OK