Package: GSReg Version: 1.40.0 Command: /Library/Frameworks/R.framework/Resources/bin/R CMD INSTALL GSReg StartedAt: 2025-02-03 16:25:14 -0500 (Mon, 03 Feb 2025) EndedAt: 2025-02-03 16:26:02 -0500 (Mon, 03 Feb 2025) EllapsedTime: 48.3 seconds RetCode: 0 Status: OK