Package: GSReg Version: 1.40.0 Command: /home/biocbuild/bbs-3.20-bioc/R/bin/R CMD build --keep-empty-dirs --no-resave-data --md5 GSReg StartedAt: 2025-02-03 17:43:43 -0500 (Mon, 03 Feb 2025) EndedAt: 2025-02-03 17:45:07 -0500 (Mon, 03 Feb 2025) EllapsedTime: 84.1 seconds RetCode: 0 Status: OK PackageFile: GSReg_1.40.0.tar.gz PackageFileSize: 467.6 KiB