Package: GSReg Version: 1.40.0 Command: rm -rf GSReg.buildbin-libdir && mkdir GSReg.buildbin-libdir && F:\biocbuild\bbs-3.20-bioc\R\bin\R.exe CMD INSTALL --build --library=GSReg.buildbin-libdir GSReg_1.40.0.tar.gz StartedAt: 2025-02-04 08:40:00 -0500 (Tue, 04 Feb 2025) EndedAt: 2025-02-04 08:40:53 -0500 (Tue, 04 Feb 2025) EllapsedTime: 52.9 seconds RetCode: 0 Status: OK PackageFile: GSReg_1.40.0.zip PackageFileSize: 387.9 KiB