Package: GSReg Version: 1.40.0 Command: /home/biocbuild/R/R/bin/R CMD INSTALL GSReg StartedAt: 2025-02-03 20:52:15 -0000 (Mon, 03 Feb 2025) EndedAt: 2025-02-03 20:53:04 -0000 (Mon, 03 Feb 2025) EllapsedTime: 49.0 seconds RetCode: 0 Status: OK