Package: GSVA Version: 2.0.5 Command: /Library/Frameworks/R.framework/Resources/bin/R CMD build --keep-empty-dirs --no-resave-data GSVA StartedAt: 2025-02-04 01:07:15 -0500 (Tue, 04 Feb 2025) EndedAt: 2025-02-04 01:09:33 -0500 (Tue, 04 Feb 2025) EllapsedTime: 138.2 seconds RetCode: 0 Status: OK PackageFile: GSVA_2.0.5.tar.gz PackageFileSize: 2.376 MiB