Package: GSVA Version: 2.0.5 Command: F:\biocbuild\bbs-3.20-bioc\R\bin\R.exe CMD INSTALL GSVA StartedAt: 2025-02-10 16:53:58 -0500 (Mon, 10 Feb 2025) EndedAt: 2025-02-10 16:55:05 -0500 (Mon, 10 Feb 2025) EllapsedTime: 66.5 seconds RetCode: 0 Status: OK