Package: GSVA Version: 2.0.5 Command: /home/biocbuild/R/R/bin/R CMD build --keep-empty-dirs --no-resave-data GSVA StartedAt: 2025-02-04 00:10:22 -0000 (Tue, 04 Feb 2025) EndedAt: 2025-02-04 00:13:29 -0000 (Tue, 04 Feb 2025) EllapsedTime: 187.2 seconds RetCode: 0 Status: OK PackageFile: GSVA_2.0.5.tar.gz PackageFileSize: 2.229 MiB