Package: GSgalgoR Version: 1.16.0 Command: /Library/Frameworks/R.framework/Resources/bin/R CMD build --keep-empty-dirs --no-resave-data GSgalgoR StartedAt: 2025-02-03 19:27:42 -0500 (Mon, 03 Feb 2025) EndedAt: 2025-02-03 19:30:15 -0500 (Mon, 03 Feb 2025) EllapsedTime: 152.9 seconds RetCode: 0 Status: OK PackageFile: GSgalgoR_1.16.0.tar.gz PackageFileSize: 2.816 MiB