Package: GSgalgoR Version: 1.16.0 Command: chmod a+r GSgalgoR -R && F:\biocbuild\bbs-3.20-bioc\R\bin\R.exe CMD build --keep-empty-dirs --no-resave-data GSgalgoR StartedAt: 2025-02-03 19:37:47 -0500 (Mon, 03 Feb 2025) EndedAt: 2025-02-03 19:40:06 -0500 (Mon, 03 Feb 2025) EllapsedTime: 138.9 seconds RetCode: 0 Status: OK PackageFile: GSgalgoR_1.16.0.tar.gz PackageFileSize: 2.209 MiB