Package: GSgalgoR Version: 1.16.0 Command: /home/biocbuild/R/R/bin/R CMD build --keep-empty-dirs --no-resave-data GSgalgoR StartedAt: 2025-02-04 00:10:00 -0000 (Tue, 04 Feb 2025) EndedAt: 2025-02-04 00:11:50 -0000 (Tue, 04 Feb 2025) EllapsedTime: 110.2 seconds RetCode: 0 Status: OK PackageFile: GSgalgoR_1.16.0.tar.gz PackageFileSize: 2.267 MiB