Package: GSgalgoR Version: 1.16.0 Command: /home/biocbuild/R/R/bin/R CMD INSTALL GSgalgoR StartedAt: 2025-02-03 21:03:39 -0000 (Mon, 03 Feb 2025) EndedAt: 2025-02-03 21:03:42 -0000 (Mon, 03 Feb 2025) EllapsedTime: 3.0 seconds RetCode: 0 Status: OK