Package: GWAS.BAYES Version: 1.16.0 Command: /Library/Frameworks/R.framework/Resources/bin/R CMD build --keep-empty-dirs --no-resave-data GWAS.BAYES StartedAt: 2025-02-04 01:10:04 -0500 (Tue, 04 Feb 2025) EndedAt: 2025-02-04 01:14:13 -0500 (Tue, 04 Feb 2025) EllapsedTime: 248.4 seconds RetCode: 0 Status: OK PackageFile: GWAS.BAYES_1.16.0.tar.gz PackageFileSize: 1.347 MiB