Package: GWAS.BAYES Version: 1.16.0 Command: /Library/Frameworks/R.framework/Resources/bin/R CMD build --keep-empty-dirs --no-resave-data GWAS.BAYES StartedAt: 2025-02-10 19:27:06 -0500 (Mon, 10 Feb 2025) EndedAt: 2025-02-10 19:33:56 -0500 (Mon, 10 Feb 2025) EllapsedTime: 409.9 seconds RetCode: 0 Status: OK PackageFile: GWAS.BAYES_1.16.0.tar.gz PackageFileSize: 1.346 MiB