Package: GWAS.BAYES Version: 1.16.0 Command: /home/biocbuild/bbs-3.20-bioc/R/bin/R CMD build --keep-empty-dirs --no-resave-data --md5 GWAS.BAYES StartedAt: 2025-02-03 17:44:26 -0500 (Mon, 03 Feb 2025) EndedAt: 2025-02-03 17:47:13 -0500 (Mon, 03 Feb 2025) EllapsedTime: 166.3 seconds RetCode: 0 Status: OK PackageFile: GWAS.BAYES_1.16.0.tar.gz PackageFileSize: 1.347 MiB