Package: GWAS.BAYES Version: 1.16.0 Command: /home/biocbuild/bbs-3.20-bioc/R/bin/R CMD check --install=check:GWAS.BAYES.install-out.txt --library=/home/biocbuild/bbs-3.20-bioc/R/site-library --timings GWAS.BAYES_1.16.0.tar.gz StartedAt: 2025-02-03 23:03:27 -0500 (Mon, 03 Feb 2025) EndedAt: 2025-02-03 23:07:45 -0500 (Mon, 03 Feb 2025) EllapsedTime: 257.4 seconds RetCode: 0 Status: OK CheckDir: GWAS.BAYES.Rcheck Warnings: 0