Package: GWAS.BAYES Version: 1.16.0 Command: chmod a+r GWAS.BAYES -R && F:\biocbuild\bbs-3.20-bioc\R\bin\R.exe CMD build --keep-empty-dirs --no-resave-data GWAS.BAYES StartedAt: 2025-02-03 19:39:46 -0500 (Mon, 03 Feb 2025) EndedAt: 2025-02-03 19:44:04 -0500 (Mon, 03 Feb 2025) EllapsedTime: 257.7 seconds RetCode: 0 Status: OK PackageFile: GWAS.BAYES_1.16.0.tar.gz PackageFileSize: 1.346 MiB