Package: GWAS.BAYES Version: 1.16.0 Command: /home/biocbuild/R/R/bin/R CMD build --keep-empty-dirs --no-resave-data GWAS.BAYES StartedAt: 2025-02-11 00:02:52 -0000 (Tue, 11 Feb 2025) EndedAt: 2025-02-11 00:06:43 -0000 (Tue, 11 Feb 2025) EllapsedTime: 231.5 seconds RetCode: 0 Status: OK PackageFile: GWAS.BAYES_1.16.0.tar.gz PackageFileSize: 1.394 MiB