Package: GWAS.BAYES Version: 1.16.0 Command: /home/biocbuild/R/R/bin/R CMD check --install=check:GWAS.BAYES.install-out.txt --library=/home/biocbuild/R/R/site-library --no-vignettes --timings GWAS.BAYES_1.16.0.tar.gz StartedAt: 2025-02-04 07:43:16 -0000 (Tue, 04 Feb 2025) EndedAt: 2025-02-04 07:44:35 -0000 (Tue, 04 Feb 2025) EllapsedTime: 79.1 seconds RetCode: 0 Status: OK CheckDir: GWAS.BAYES.Rcheck Warnings: 0