Package: GWENA Version: 1.16.0 Command: /Library/Frameworks/R.framework/Resources/bin/R CMD build --keep-empty-dirs --no-resave-data GWENA StartedAt: 2025-02-04 01:13:52 -0500 (Tue, 04 Feb 2025) EndedAt: 2025-02-04 01:16:20 -0500 (Tue, 04 Feb 2025) EllapsedTime: 147.3 seconds RetCode: 0 Status: OK PackageFile: GWENA_1.16.0.tar.gz PackageFileSize: 4.673 MiB