Package: GWENA Version: 1.16.0 Command: /home/biocbuild/bbs-3.20-bioc/R/bin/R CMD build --keep-empty-dirs --no-resave-data --md5 GWENA StartedAt: 2025-02-10 17:37:37 -0500 (Mon, 10 Feb 2025) EndedAt: 2025-02-10 17:39:20 -0500 (Mon, 10 Feb 2025) EllapsedTime: 103.2 seconds RetCode: 0 Status: OK PackageFile: GWENA_1.16.0.tar.gz PackageFileSize: 4.789 MiB