Package: GWENA Version: 1.16.0 Command: chmod a+r GWENA -R && F:\biocbuild\bbs-3.20-bioc\R\bin\R.exe CMD build --keep-empty-dirs --no-resave-data GWENA StartedAt: 2025-02-03 19:40:34 -0500 (Mon, 03 Feb 2025) EndedAt: 2025-02-03 19:42:51 -0500 (Mon, 03 Feb 2025) EllapsedTime: 137.1 seconds RetCode: 0 Status: OK PackageFile: GWENA_1.16.0.tar.gz PackageFileSize: 4.213 MiB