Package: GWENA Version: 1.16.0 Command: /home/biocbuild/R/R/bin/R CMD build --keep-empty-dirs --no-resave-data GWENA StartedAt: 2025-02-11 00:03:32 -0000 (Tue, 11 Feb 2025) EndedAt: 2025-02-11 00:05:48 -0000 (Tue, 11 Feb 2025) EllapsedTime: 136.1 seconds RetCode: 0 Status: OK PackageFile: GWENA_1.16.0.tar.gz PackageFileSize: 4.935 MiB