Package: GWENA Version: 1.16.0 Command: /home/biocbuild/R/R/bin/R CMD check --install=check:GWENA.install-out.txt --library=/home/biocbuild/R/R/site-library --no-vignettes --timings GWENA_1.16.0.tar.gz StartedAt: 2025-02-04 07:43:53 -0000 (Tue, 04 Feb 2025) EndedAt: 2025-02-04 07:56:02 -0000 (Tue, 04 Feb 2025) EllapsedTime: 729.6 seconds RetCode: 0 Status: WARNINGS CheckDir: GWENA.Rcheck Warnings: 2