Package: GeDi Version: 1.2.0 Command: rm -rf GeDi.buildbin-libdir && mkdir GeDi.buildbin-libdir && /Users/biocbuild/BBS/utils/build-universal.sh GeDi_1.2.0.tar.gz /Library/Frameworks/R.framework/Resources/bin/R GeDi.buildbin-libdir StartedAt: 2025-02-12 15:10:53 -0500 (Wed, 12 Feb 2025) EndedAt: 2025-02-12 15:11:57 -0500 (Wed, 12 Feb 2025) EllapsedTime: 64.7 seconds RetCode: 0 Status: OK PackageFile: GeDi_1.2.0.tgz PackageFileSize: 2.774 MiB