Package: GeDi Version: 1.2.0 Command: /Library/Frameworks/R.framework/Resources/bin/R CMD build --keep-empty-dirs --no-resave-data GeDi StartedAt: 2025-02-03 19:05:35 -0500 (Mon, 03 Feb 2025) EndedAt: 2025-02-03 19:12:08 -0500 (Mon, 03 Feb 2025) EllapsedTime: 392.0 seconds RetCode: 0 Status: OK PackageFile: GeDi_1.2.0.tar.gz PackageFileSize: 3.413 MiB