Package: GeDi Version: 1.2.0 Command: /home/biocbuild/bbs-3.20-bioc/R/bin/R CMD build --keep-empty-dirs --no-resave-data --md5 GeDi StartedAt: 2025-02-03 17:30:40 -0500 (Mon, 03 Feb 2025) EndedAt: 2025-02-03 17:33:31 -0500 (Mon, 03 Feb 2025) EllapsedTime: 170.3 seconds RetCode: 0 Status: OK PackageFile: GeDi_1.2.0.tar.gz PackageFileSize: 3.416 MiB