Package: GeDi Version: 1.2.0 Command: /home/biocbuild/bbs-3.20-bioc/R/bin/R CMD INSTALL GeDi StartedAt: 2025-02-03 15:59:50 -0500 (Mon, 03 Feb 2025) EndedAt: 2025-02-03 16:00:45 -0500 (Mon, 03 Feb 2025) EllapsedTime: 54.3 seconds RetCode: 0 Status: OK