Package: GeDi Version: 1.2.0 Command: rm -rf GeDi.buildbin-libdir && mkdir GeDi.buildbin-libdir && F:\biocbuild\bbs-3.20-bioc\R\bin\R.exe CMD INSTALL --build --library=GeDi.buildbin-libdir GeDi_1.2.0.tar.gz StartedAt: 2025-01-31 08:41:53 -0500 (Fri, 31 Jan 2025) EndedAt: 2025-01-31 08:43:19 -0500 (Fri, 31 Jan 2025) EllapsedTime: 86.6 seconds RetCode: 0 Status: OK PackageFile: GeDi_1.2.0.zip PackageFileSize: 2.783 MiB