Package: GeDi Version: 1.2.0 Command: F:\biocbuild\bbs-3.20-bioc\R\bin\R.exe CMD check --no-multiarch --install=check:GeDi.install-out.txt --library=F:\biocbuild\bbs-3.20-bioc\R\library --no-vignettes --timings GeDi_1.2.0.tar.gz StartedAt: 2025-01-31 02:15:08 -0500 (Fri, 31 Jan 2025) EndedAt: 2025-01-31 02:30:14 -0500 (Fri, 31 Jan 2025) EllapsedTime: 905.9 seconds RetCode: 0 Status: OK CheckDir: GeDi.Rcheck Warnings: 0