Package: GeDi Version: 1.2.0 Command: /home/biocbuild/R/R/bin/R CMD build --keep-empty-dirs --no-resave-data GeDi StartedAt: 2025-02-03 23:45:33 -0000 (Mon, 03 Feb 2025) EndedAt: 2025-02-03 23:49:17 -0000 (Mon, 03 Feb 2025) EllapsedTime: 224.1 seconds RetCode: 0 Status: OK PackageFile: GeDi_1.2.0.tar.gz PackageFileSize: 3.476 MiB