Package: GeDi Version: 1.2.0 Command: /home/biocbuild/R/R/bin/R CMD INSTALL GeDi StartedAt: 2025-02-03 21:14:44 -0000 (Mon, 03 Feb 2025) EndedAt: 2025-02-03 21:15:48 -0000 (Mon, 03 Feb 2025) EllapsedTime: 64.1 seconds RetCode: 0 Status: OK