Package: GenVisR Version: 1.38.0 Command: /Library/Frameworks/R.framework/Resources/bin/R CMD INSTALL GenVisR StartedAt: 2025-02-03 15:54:39 -0500 (Mon, 03 Feb 2025) EndedAt: 2025-02-03 15:56:21 -0500 (Mon, 03 Feb 2025) EllapsedTime: 102.9 seconds RetCode: 0 Status: OK